Workbook
Name ___CON2: #REF!
Name ___CON2: #REF!
Name ___CON2: #REF!
Name ___NET2: #REF!
Name ___NET2: #REF!
Name ___NET2: #REF!
Name __CON1: #REF!
Name __CON1: #REF!
Name __CON1: #REF!
Name __CON2: #REF!
Name __CON2: #REF!
Name __CON2: #REF!
Name __NET2: #REF!
Name __NET2: #REF!
Name __NET2: #REF!
Name _1: #REF!
Name _1: #REF!
Name _1: #REF!
Name _2: #REF!
Name _2: #REF!
Name _2: #REF!
Name _CON1: #REF!
Name _CON1: #REF!
Name _CON1: #REF!
Name _CON2: #REF!
Name _CON2: #REF!
Name _CON2: #REF!
Name _NET2: #REF!
Name _NET2: #REF!
Name _NET2: #REF!
Name _NET2: #REF!
Name a: #REF!
Name a: #REF!
Name a: #REF!
Name a: #REF!
Name aa: #REF!
Name aa: #REF!
Name aa: #REF!
Name aa: #REF!
Name aaaa: #REF!
Name aaaa: #REF!
Name aaaa: #REF!
Name aaaa: #REF!
Name adasdfwfwqfqfq: #REF!
Name adasdfwfwqfqfq: #REF!
Name adasdfwfwqfqfq: #REF!
Name adasdfwfwqfqfq: #REF!
Name adsà: #REF!
Name adsà: #REF!
Name adsà: #REF!
Name azcss: #REF!
Name azcss: #REF!
Name azcss: #REF!
Name b: #REF!
Name b: #REF!
Name b: #REF!
Name b: #REF!
Name bbnthththrtjrtjrjr: #REF!
Name bbnthththrtjrtjrjr: #REF!
Name bbnthththrtjrtjrjr: #REF!

Sheet An Thị Nhàn
A2: DỰ THẢO PHƯƠNG ÁN BỒI THƯỜNG, HỖ TRỢ THIỆT HẠI, TĐC
A3: Dự án: Giải phóng mặt bằng dự án đường Tân Phúc - Võng Phan (giao ĐT.378), tỉnh Hưng Yên
A5: HỘ BÀ AN THỊ NHÀN
A6: Số TT | B6: Số hộ | C6: Họ và tên | D6: Tờ BĐ | E6: Số thửa | F6: Tổng diện tích thửa đất (m²) | G6: Diện tích đất thu hồi (m²) | I6: Bồi thường đất trồng cây lâu năm (85.000 đồng/m²) | K6: Bồi thường đất ở | P6: Bồi thường về công trình, vật kiến trúc (đồng) | Q6: Bồi thường về cây cối, hoa màu (đồng) | R6: Tổng cộng tiền bồi thường (đồng) | S6: Phương án tái định cư áp dụng đơn giá theo QĐ ……… Phê duyệt giá đất Khu TĐC Minh Hoàng
G7: Diện tích đất ở nông thôn (ONT) (m²) | H7: Diện tích đất cây lâu năm (CLN) (m²) | I7: Diện tích (m²) | J7: Thành tiền (đồng)
K8: Diện tích đất ở nông thôn (ONT) thu hồi (m²) | L8: Giá đất theo Bảng giá - QĐ 42 (đồng/m²) | M8: Hệ số K theo QĐ | N8: Đơn giá (đồng/m²) | O8: Thành tiền (đồng) | S8: Diện tích đất TĐC quy đổi theo giá trị bồi thường đất ở thu hồi (m2 ) | T8: Giá đất tại vị trí dự kiến thực hiện TĐC (Đồng) | U8: Diện tích dự kiến bố trí TĐC (m2 ) | V8: PA TĐC dự kiến | X8: Giá trị diện tích đất bố trí TĐC | Y8: Số tiền gia đình phải nộp | Z8: Số tiền gia đình nhận về
A9: 1 | C9: 2 | F9: 3 | G9: 3.5 | H9: 5 | I9: 6 | J9: 7= 6 x 85.000 | K9: 8 | L9: 9 | M9: 10 | N9: 11 | O9: 12 | P9: 13 | Q9: 14 | R9: 15= 7+12+13+14 | S9: 9 | T9: 10 | U9: 11 | V9: Số suất TĐC | W9: Diện tích 1 suất TĐC (m2) | X9: 13 | Y9: 14 | Z9: 15
A10: 1 | B10: 1 | C10: Hộ bà An Thị Nhàn | D10: 7 | E10: 215 | F10: 278 | H10: 278 | I10: 278 | J10: =I10*85000 -> 23630000 | Q10: =#REF! -> #REF! | R10: =J10+Q10 -> #REF!
A11: 2 | D11: 7 | E11: 41 | F11: 696 | H11: 96 | I11: 96 | J11: =I11*85000 -> 8160000 | Q11: =#REF! -> #REF! | R11: =J11+Q11 -> #REF!
A12: 3 | D12: 7 | G12: 600 | K12: 600 | L12: 3850000 | M12: 2.41 | N12: 9288000 | O12: =K12*N12 -> 5572800000 | P12: =#REF! -> #REF! | R12: =O12+P12 -> #REF! | S12: =O12/T12 -> 580.5 | T12: 9600000 | U12: 100 | V12: 1 | W12: 100 | X12: =T12*U12 -> 960000000 | Z12: =R10+R11+R12-X12 -> #REF!
A13: TỔNG | R13: =SUM(R10:R12) -> #REF!

Sheet Tổng
A1: PHỤ LỤC CHI TIẾT
A2: Phương án bồi thường, hỗ trợ khi Nhà nước thu hồi đất để thực hiện Dự án đường nối từ QL.38B với đường khu di tích Voi đá Ngựa đá và Khu dân cư số 5 huyện Phù Cừ
A3: (Kèm theo Tờ trình số: 335/TTr-KT ngày 16/10/2026 của Phòng Kinh tế xã Quang Hưng)
A4: STT | B4: Họ và tên | C4: Nơi đăng ký thường trú (Thôn) | D4: Diện tích thu hồi (m²) | E4: Loại đất | F4: Các khoản bồi thường, hỗ trợ (đồng) | L4: Thành tiền (đồng) | M4: Phụ lục chi tiết kèm theo
F5: Bồi thường đất ở nông thôn (9.945.000đ/m²) ( Dự kiến) | G5: Bồi thường đất nông nghiệp (80.000đ/m²) ( Dự kiến) | H5: Bồi thường đất Trồng cây lâu năm (90.000đ/m²) (Dự kiến) | I5: Hỗ trợ chuyển đổi nghề và tìm kiếm việc làm (80.000đ/m2 x 3lần = 240.000đ/m2) | J5: Hỗ trợ chuyển đổi nghề và tìm kiếm việc làm (90.000đ/m2 x 3lần = 270.000đ/m2) | K5: Tài sản- vật kiến trúc, cây trồng
A7: (1) | B7: (2) | C7: (3) | D7: (4) | E7: (5) | F7: (6) | G7: (7)=(4)x80.000đ/m² | H7: (8)=(4)x90.000đ/m² | I7: (9)=(4)x240.000đ/m² | J7: (10)=(4)x270.000đ/m² | K7: (11) | L7: (12)=(6)+...+(11)
A8: I | B8: Đất của hộ gia đình, cá nhân | D8: =SUM(D9:D12) -> 701.4 | G8: =SUM(G9:G12) -> 31512000 | H8: =SUM(H9:H12) -> 2349000 | I8: =SUM(I9:I12) -> 94536000 | J8: =SUM(J9) -> 0 | K8: =SUM(K9:K12) -> 8.3853286e+08 | L8: =SUM(L9:L12) -> 3.7724999e+09
A9: 1 | B9: Bà Phạm Thị Phương | C9: Cao Xá | D9: 200.5 | E9: ONT | F9: =D9*9945000 -> 1993972500 | K9: ='01. Phạm Thị Phương'!G34+'02. Phạm Thị Phương'!G13 -> 7.6663943e+08 | L9: =F9+G10+I10+K9 -> 2.8866599e+09 | M9: Phụ lục số 01, 02
D10: 393.9 | E10: NTS | G10: =D10*80000 -> 31512000 | I10: =D10*240000 -> 94536000
A11: 2 | B11: Bà Tống Thị Phượng | C11: Cao Xá | D11: 80.9 | E11: ONT | F11: =D11*9945000 -> 804550500 | K11: ='04. Tống Thị Phượng'!F24 -> 71893426 | L11: =F11+H12+J12+K11 -> 8.8583993e+08 | M11: Phụ lục số 04
D12: 26.1 | E12: CLN | H12: =D12*90000 -> 2349000 | J12: =D12*270000 -> 7047000
A13: II | B13: Cây trồng, tài sản, vật kiến trúc trên đất công ích UBND xã quản lý | L13: =SUM(L14:L14) -> 76380198
A14: 1 | B14: Bà Phạm Thị Phương | E14: DGT | K14: ='03. Phạm Thị Phương '!G14 -> 76380198 | L14: =K14 -> 76380198 | M14: Phụ lục số 03
A15: III | B15: Đất do UBND xã quản lý | D15: =SUM(D16:D17) -> 863.1
A16: 2 | B16: Đất giao thông | D16: 832.7 | E16: DGT
A17: 3 | B17: Đất thủy lợi | D17: 30.4 | E17: DTL
A18: Tổng cộng (I+II+III) | D18: =D8+D15 -> 1564.5 | L18: =L13+L8 -> 3.8488801e+09
B20: Làm tròn: 3.848.880.000 đồng | D20: Bằng chữ: Ba tỷ tám trăm bốn mươi tám triệu, tám trăm tám mươi nghìn đồng chẵn./.

Sheet 1. Phạm Thị Phương
A1: PHỤ LỤC CHI TIẾT SỐ 01
A2: =#REF! -> #REF!
A3: NGƯỜI ĐẠI DIỆN: HỘ BÀ PHẠM THỊ PHƯƠNG ( ĐGT )
A4: =#REF! -> #REF!
A5: STT | B5: Loại cây trồng | C5: Đơn vị tính | D5: Số lượng | E5: Đơn giá (đồng) | F5: Hỗ trợ theo QĐ 01 | G5: Thành tiền (đồng) | H5: Ghi chú
A6: I | B6: Tài sản vật kiến trúc (diện tích thu hồi: m²)
A7: 1 | B7: Nhà xây gạch chỉ tường 110 bổ trụ, kết cấu thép, lợp mái tôn KT: 9,5m x 3,3m | C7: m2 | D7: =9.5*3.3 -> 31.35 | E7: 2033079 | F7: =E7*30% -> 609923.7 | G7: =F7*D7 -> 19121108
A8: 2 | B8: Nhà xây gạch chỉ tường 110 bổ trụ, kết cấu thép, lợp mái tôn KT: 9,2m x 3,3m | C8: m2 | D8: =9.2*3.3 -> 30.36 | E8: 2033079 | F8: =E8*30% -> 609923.7 | G8: =F8*D8 -> 18517284
A9: 3 | B9: Nhà xây gạch chỉ tường 110 bổ trụ, kết cấu thép, lợp mái tôn KT: 14,8m x 3,3m | C9: m2 | D9: =14.8*3.3 -> 48.84 | E9: 2033079 | F9: =E9*30% -> 609923.7 | G9: =F9*D9 -> 29788674
A10: 4 | B10: Nhà xây gạch chỉ tường 110 bổ trụ, kết cấu thép, lợp mái tôn KT: 3m x 3,3m | C10: m2 | D10: =3*3.3 -> 9.9 | E10: 2033079 | F10: =E10*30% -> 609923.7 | G10: =F10*D10 -> 6038244.6
A11: 5 | B11: Lát nền, sàn gạch ceramic 400x400mm KT: 9,2m x 3,3m | C11: m2 | D11: =9.2*3.3 -> 30.36 | E11: 320036 | F11: =E11*30% -> 96010.8 | G11: =F11*D11 -> 2914887.9
A12: 6 | B12: Nhà xây gạch chỉ tường 110 bổ trụ, kết cấu thép, lợp mái tôn KT: 3,1m x 28,7m | C12: m2 | D12: =3.1*28.7 -> 88.97 | E12: 2033079 | F12: =E12*30% -> 609923.7 | G12: =F12*D12 -> 54264912
A13: 7 | B13: Lát nền, sàn gạch ceramic 300x300mm KT: 27,93m x 2,88m | C13: m2 | D13: =27.93*2.88 -> 80.4384 | E13: 328543 | F13: =E13*30% -> 98562.9 | G13: =F13*D13 -> 7928242
A14: 8 | B14: Xây tường gạch chỉ, chiều dày ≤ 11cm, cao ≤ 6m, vữa XM M75 KT: 0,11m x 2,7m x 3,1m x 5 cái | C14: m3 | D14: =2.7*3.1*0.11*5 -> 4.6035 | E14: 478888 | F14: =E14*30% -> 143666.4 | G14: =F14*D14 -> 661368.27
A15: 9 | G15: =F15*D15 -> 0
A16: 10 | G16: =F16*D16 -> 0
A17: 11 | G17: =F17*D17 -> 0
A18: 12 | G18: =F18*D18 -> 0
A19: 13
A20: 14
A21: 15
A22: 16
A23: 17
A24: 18
A25: 19
A26: 20
A27: 21
A28: Tổng cộng | G28: =SUM(G7:G27) -> 1.3923472e+08

Sheet 01. Phạm Thị Phương
A2: PHỤ LỤC CHI TIẾT SỐ 01
A3: =Tổng!A2 -> Phương án bồi thường, hỗ trợ khi Nhà nước thu hồi đất để thực hiện Dự án đường nối từ QL.38B với đường khu di tích Voi đá Ngựa đá và Khu dân cư số 5 huyện Phù Cừ
A4: NGƯỜI ĐẠI DIỆN: BÀ PHẠM THỊ PHƯƠNG ( ONT )
A5: =Tổng!A3 -> (Kèm theo Tờ trình số: 335/TTr-KT ngày 16/10/2026 của Phòng Kinh tế xã Quang Hưng)
A7: STT | B7: Loại cây trồng | C7: Đơn vị tính | D7: Số lượng | E7: Đơn giá (đồng) | F7: Hỗ trợ theo QĐ 01 | G7: Thành tiền (đồng) | H7: Ghi chú | I7: DTMĐ | J7: Tổng DTTH | K7: DTTH CÒN
A8: I | B8: Tài sản vật kiến trúc (diện tích thu hồi: 200,5m²) | G8: =SUM(G9:G31) -> 7.132751e+08 | J8: 200.5
A9: 1 | B9: Nhà xây gạch chỉ tường 110 bổ trụ, kết cấu thép, lợp mái tôn KT: 3,9m x 4m | C9: m2 | D9: =3.9*4 -> 15.6 | E9: 2033079 | G9: =E9*D9 -> 31716032 | I9: =D9 -> 15.6 | J9: =J8-I9 -> 184.9
A10: 2 | B10: Nhà xây gạch chỉ tường 110 bổ trụ, kết cấu thép, lợp mái tôn KT: 4,1m x 4,6m | C10: m2 | D10: =4.1*4.6 -> 18.86 | E10: 2033079 | G10: =E10*D10 -> 38343870 | I10: =D10 -> 18.86 | J10: =J9-I10 -> 166.04
A11: 3 | B11: Lát nền, sàn gạch ceramic 400x400mm KT: 3,88m x 4,38m | C11: m2 | D11: =3.88*4.38 -> 16.9944 | E11: 320036 | G11: =E11*D11 -> 5438819.8 | J11: =J10-I11 -> 166.04
A12: 4 | B12: Ốp tường gạch ceramic 250x400mm KT: 1,4m x 10m | C12: m2 | D12: =1.4*10 -> 14 | E12: 423906 | G12: =E12*D12 -> 5934684 | J12: =J11-I12 -> 166.04
A13: 5 | B13: Bàn bếp ốp gạch ceramic 250x400mm KT: 2,2m x 0,7m | C13: m2 | D13: =2.2*0.7 -> 1.54 | E13: 423906 | G13: =E13*D13 -> 652815.24 | J13: =J12-I13 -> 166.04
A14: 6 | B14: Nhà xây gạch chỉ tường 110 bổ trụ, kết cấu thép, lợp mái tôn KT: 5,2m x 4,3m | C14: m2 | D14: =5.2*4.3 -> 22.36 | E14: 2033079 | G14: =E14*D14 -> 45459646 | I14: =D14 -> 22.36 | J14: =J13-I14 -> 143.68
A15: 7 | B15: Lát nền, sàn gạch ceramic 400x400mm KT: 4,98m x 4,08m | C15: m2 | D15: =4.98*4.08 -> 20.3184 | E15: 320036 | G15: =E15*D15 -> 6502619.5 | J15: =J14-I15 -> 143.68
A16: 8 | B16: Ốp tường bằng tấm nhựa KT: (4,98m x 3,3m x 2 bên) + (4,08m x 3,3m x 2 bên) - (1,5m x 2,4m) - (2,2m x 1,6m) | C16: m2 | D16: 52.676 | E16: 298633 | G16: =E16*D16 -> 15730792 | J16: =J15-I16 -> 143.68
A17: 9 | B17: Nhà xây gạch xỉ, kết cấu tre, lợp mái Fibro xi măng KT: 2,15m x 3,9m | C17: m2 | D17: =2.15*3.9 -> 8.385 | E17: 1711123 | G17: =E17*D17 -> 14347766 | I17: =D17 -> 8.385 | J17: =J16-I17 -> 135.295
A18: 10 | B18: Nhà xây gạch xỉ, kết cấu tre, lợp mái Fibro xi măng KT: 3,6m x 2,2m | C18: m2 | D18: =3.6*2.2 -> 7.92 | E18: 1711123 | G18: =E18*D18 -> 13552094 | I18: =D18 -> 7.92 | J18: =J17-I18 -> 127.375
A19: 11 | B19: Nhà xây gạch xỉ, kết cấu tre, lợp mái Fibro xi măng KT: 3,9m x 1,4m | C19: m2 | D19: =3.9*1.4 -> 5.46 | E19: 1711123 | G19: =E19*D19 -> 9342731.6 | I19: =D19 -> 5.46 | J19: =J18-I19 -> 121.915
A20: 12 | B20: Nhà xây gạch xỉ, kết cấu tre, lợp mái Fibro xi măng KT: 2,6m x 3,1m | C20: m2 | D20: =2.6*3.1 -> 8.06 | E20: 1711123 | G20: =E20*D20 -> 13791651 | I20: =D20 -> 8.06 | J20: =J19-I20 -> 113.855
A21: 13 | B21: Nhà 1 tầng xây gạch chỉ, mái bằng, tường 220 cao 4,3m KT: 4,6m x 11,8m | C21: m2 | D21: =4.6*11.8 -> 54.28 | E21: 3002483 | G21: =E21*D21 -> 1.6297478e+08 | I21: =D21 -> 54.28 | J21: =J20-I21 -> 59.575
A22: 14 | B22: Lát nền, sàn gạch ceramic 400x400mm KT: 4,6m x 11,8m | C22: m2 | D22: =4.6*11.8 -> 54.28 | E22: 320036 | G22: =E22*D22 -> 17371554 | J22: =J21-I22 -> 59.575
A23: 15 | B23: Mái lợp tôn kèo thép KT: 4,6m x 11,8m | C23: m2 | D23: =4.6*11.8 -> 54.28 | E23: 863972 | G23: =E23*D23 -> 46896400 | J23: =J22-I23 -> 59.575
A24: 16 | B24: Xây tường gạch chỉ, chiều dày ≤ 11cm, cao ≤ 4m, vữa TH M50 KT: (4,6m + 11,8m x 2) x 1,2 | C24: m3 | D24: =(4.6+11.8*2)*1.2*0.11 -> 3.7224 | E24: 2331443 | G24: =E24*D24 -> 8678563.4 | J24: =J23-I24 -> 59.575
A25: 17 | B25: Làm trần bằng tấm nhựa có khung xương KT: 8,9m x 4,1m | C25: m2 | D25: =8.9*4.1 -> 36.49 | E25: 192091 | G25: =E25*D25 -> 7009400.6 | J25: =J24-I25 -> 59.575
A26: 18 | B26: Ốp tường bằng tấm nhựa KT: ((8,9m x 3,7m x 2 bên) + (4,1m x 3,7m x 2 bên) - ((2,2m x 1,6m) + (1,1m x 2,2m) + (0,7m x 1,5m)) | C26: m2 | D26: =+((8.9*3.7*2)+(4.1*3.7*2))-((2.2*1.6)+(1.1*2.2)+(0.7*1.5)) -> 89.21 | E26: 298633 | G26: =E26*D26 -> 26641050 | J26: =J25-I26 -> 59.575
A27: 19 | B27: Nhà xây gạch xỉ, kết cấu tre, lợp mái Fibro xi măng KT: 3m x 1,3m | C27: m2 | D27: =3*1.3 -> 3.9 | E27: 1711123 | G27: =E27*D27 -> 6673379.7 | I27: =D27 -> 3.9 | J27: =J26-I27 -> 55.675
A28: 20 | B28: Nhà xây gạch chỉ tường 110 bổ trụ, kết cấu thép, lợp mái tôn KT: 3,1m x 28,7m | C28: m2 | D28: =3.1*28.7 -> 88.97 | E28: 2033079 | G28: =E28*D28 -> 1.8088304e+08 | I28: =D28 -> 88.97 | J28: =J27-I28 -> -33.295
A29: 21 | B29: Lát nền, sàn gạch ceramic 300x300mm KT: 27,93m x 2,88m | C29: m2 | D29: =27.93*2.88 -> 80.4384 | E29: 328543 | G29: =E29*D29 -> 26427473
A30: 22 | B30: Xây tường gạch chỉ, chiều dày ≤ 11cm, cao ≤ 6m, vữa XM M75 KT: 0,11m x 2,7m x 3,1m x 5 cái | C30: m3 | D30: =2.7*3.1*0.11*5 -> 4.6035 | E30: 2261035 | G30: =E30*D30 -> 10408675
A31: 23 | B31: Bể xây gạch chỉ khối tích > 10m3 không có nắp đan bê tông KT : 2,5m x 4,3m x 1,8m | C31: m3 | D31: =2.5*4.3*1.8 -> 19.35 | E31: 955931 | G31: =E31*D31 -> 18497265
A32: II | B32: TÀI SẢN ẢNH HƯỞNG | G32: =G33 -> 0
A33: 1 | B33: Nhà xây gạch xỉ, kết cấu tre, lợp mái Fibro xi măng KT: 3m x 2,7m | C33: m2 | D33: =3*2.7 -> 8.1
A34: Tổng cộng | G34: =G8+G32 -> 7.132751e+08 | I34: =SUM(I9:I33) -> 233.795

Sheet 02. Phạm Thị Phương
A2: PHỤ LỤC CHI TIẾT SỐ 01
A3: =Tổng!A2 -> Phương án bồi thường, hỗ trợ khi Nhà nước thu hồi đất để thực hiện Dự án đường nối từ QL.38B với đường khu di tích Voi đá Ngựa đá và Khu dân cư số 5 huyện Phù Cừ
A4: NGƯỜI ĐẠI DIỆN: BÀ PHẠM THỊ PHƯƠNG ( NTS )
A5: =Tổng!A3 -> (Kèm theo Tờ trình số: 335/TTr-KT ngày 16/10/2026 của Phòng Kinh tế xã Quang Hưng)
A7: STT | B7: Loại cây trồng | C7: Đơn vị tính | D7: Số lượng | E7: Đơn giá (đồng) | F7: Hỗ trợ theo QĐ 01 | G7: Thành tiền (đồng) | H7: Ghi chú
A8: I | B8: Tài sản vật kiến trúc (diện tích thu hồi: 393,9m²)
A9: 1 | B9: Nhà xây gạch xỉ, kết cấu tre, lợp mái Fibro xi măng KT: 17,8m x 4,8m cao 2m | C9: m2 | D9: =17.8*4.8 -> 85.44 | E9: 1711123 | F9: =E9*30% -> 513336.9 | G9: =F9*D9 -> 43859505
A10: 2 | B10: Nhà xây gạch xỉ, kết cấu tre, lợp mái Fibro xi măng KT: 3,7m x 3,4m cao 2m | C10: m2 | D10: =3.7*3.4 -> 12.58 | E10: 1711123 | F10: =E10*30% -> 513336.9 | G10: =F10*D10 -> 6457778.2
A11: 3 | B11: Xây móng gạch chỉ vữa XM M75 KT: 0,33m x 0,3m x 15,5m | C11: m3 | D11: =0.33*0.3*15.5 -> 1.5345 | E11: 2599362 | F11: =E11*30% -> 779808.6 | G11: =F11*D11 -> 1196616.3
A12: 4 | B12: Xây tường gạch chỉ, chiều dày ≤ 11cm, cao ≤ 6m, vữa XM M75 KT: 0,11m x 1,6m x 15,5m | C12: m3 | D12: =15.5*1.6*0.11 -> 2.728 | E12: 2261035 | F12: =E12*30% -> 678310.5 | G12: =F12*D12 -> 1850431
A13: Tổng cộng | G13: =SUM(G9:G12) -> 53364330

Sheet 03. Phạm Thị Phương 
A2: PHỤ LỤC CHI TIẾT SỐ 03
A3: =Tổng!A2 -> Phương án bồi thường, hỗ trợ khi Nhà nước thu hồi đất để thực hiện Dự án đường nối từ QL.38B với đường khu di tích Voi đá Ngựa đá và Khu dân cư số 5 huyện Phù Cừ
A4: NGƯỜI ĐẠI DIỆN: BÀ PHẠM THỊ PHƯƠNG ( ĐGT do UBND xã quản lý )
A5: =Tổng!A3 -> (Kèm theo Tờ trình số: 335/TTr-KT ngày 16/10/2026 của Phòng Kinh tế xã Quang Hưng)
A7: STT | B7: Loại cây trồng | C7: Đơn vị tính | D7: Số lượng | E7: Đơn giá (đồng) | F7: Hỗ trợ theo QĐ 01 | G7: Thành tiền (đồng) | H7: Ghi chú
A8: I | B8: Tài sản vật kiến trúc (diện tích thu hồi: m²)
A9: 1 | B9: Nhà xây gạch chỉ tường 110 bổ trụ, kết cấu thép, lợp mái tôn KT: 9,5m x 3,3m | C9: m2 | D9: =9.5*3.3 -> 31.35 | E9: 2033079 | F9: =E9*30% -> 609923.7 | G9: =F9*D9 -> 19121108
A10: 2 | B10: Nhà xây gạch chỉ tường 110 bổ trụ, kết cấu thép, lợp mái tôn KT: 9,2m x 3,3m | C10: m2 | D10: =9.2*3.3 -> 30.36 | E10: 2033079 | F10: =E10*30% -> 609923.7 | G10: =F10*D10 -> 18517284
A11: 3 | B11: Nhà xây gạch chỉ tường 110 bổ trụ, kết cấu thép, lợp mái tôn KT: 14,8m x 3,3m | C11: m2 | D11: =14.8*3.3 -> 48.84 | E11: 2033079 | F11: =E11*30% -> 609923.7 | G11: =F11*D11 -> 29788674
A12: 4 | B12: Nhà xây gạch chỉ tường 110 bổ trụ, kết cấu thép, lợp mái tôn KT: 3m x 3,3m | C12: m2 | D12: =3*3.3 -> 9.9 | E12: 2033079 | F12: =E12*30% -> 609923.7 | G12: =F12*D12 -> 6038244.6
A13: 5 | B13: Lát nền, sàn gạch ceramic 400x400mm KT: 9,2m x 3,3m | C13: m2 | D13: =9.2*3.3 -> 30.36 | E13: 320036 | F13: =E13*30% -> 96010.8 | G13: =F13*D13 -> 2914887.9
A14: Tổng cộng | G14: =SUM(G9:G13) -> 76380198

Sheet 04. Tống Thị Phượng
A2: PHỤ LỤC CHI TIẾT SỐ 02
A3: =Tổng!A2 -> Phương án bồi thường, hỗ trợ khi Nhà nước thu hồi đất để thực hiện Dự án đường nối từ QL.38B với đường khu di tích Voi đá Ngựa đá và Khu dân cư số 5 huyện Phù Cừ
A4: NGƯỜI ĐẠI DIỆN: BÀ TỐNG THỊ PHƯỢNG ( ONT )
A5: =Tổng!A3 -> (Kèm theo Tờ trình số: 335/TTr-KT ngày 16/10/2026 của Phòng Kinh tế xã Quang Hưng)
A7: STT | B7: Loại cây trồng | C7: Đơn vị tính | D7: Số lượng | E7: Đơn giá (đồng) | F7: Thành tiền (đồng) | G7: Ghi chú | H7: DTMĐ | I7: Tổng DTTH | J7: DTTH CÒN
A8: I | B8: Tài sản vật kiến trúc (diện tích thu hồi: 107,0m²) | F8: =SUM(F9:F18) -> 65793426 | I8: 107 | J8: =+I8-H8 -> 107
A9: 1 | B9: Xây móng gạch chỉ vữa XM M75 KT: 0,33m x 0,3m x 36m + 0,44m x 0,3m x 36m | C9: m3 | D9: =0.33*0.3*36+0.44*0.3*36 -> 8.316 | E9: 1920315 | F9: =E9*D9 -> 15969340 | I9: =J8 -> 107 | J9: =+I9-H9 -> 107
A10: 2 | B10: Xây tường gạch chỉ, chiều dày ≤ 11cm, cao ≤ 6m, vữa XM M75 KT: 0,11m x 1,7m x 36m | C10: m3 | D10: =0.11*1.7*36 -> 6.732 | E10: 2261035 | F10: =E10*D10 -> 15221288 | H10: =0.11*36 -> 3.96 | I10: =J9 -> 107 | J10: =+I10-H10 -> 103.04
A11: 3 | B11: Xây cột, trụ gạch chỉ, h ≤ 6m, vữa XM M75 KT: 0,5m x 0,5m x 3m | C11: m3 | D11: =0.5*0.5*3 -> 0.75 | E11: 2599362 | F11: =E11*D11 -> 1949521.5 | H11: =0.5*0.5*2 -> 0.5 | I11: =J10 -> 103.04 | J11: =+I11-H11 -> 102.54
A12: 4 | B12: Cọc bê tông cốt thép 250x250mm ( lõi trụ cổng ) | C12: md | D12: 2.5 | E12: 235000 | F12: =E12*D12 -> 587500
A13: 5 | B13: Bê tông móng vữa BT mác 200 KT 0,8m x 0,8m x 0,8m x 2 | C13: m3 | D13: =0.8*0.8*0.8*2 -> 1.024 | E13: 2324553 | F13: =E13*D13 -> 2380342.3
A14: 6 | B14: Sản xuất, lắp dựng cốt thép móng đường kính ≤ 18mm | C14: kg | D14: 140 | E14: 25019 | F14: =E14*D14 -> 3502660
A15: 7 | B15: Ốp đá granít tự nhiên vào tường, sử dụng keo dán KT: 0,5m x 3m x 4 mặt | C15: m2 | D15: =0.5*3*4 -> 6 | E15: 1707081 | F15: =E15*D15 -> 10242486 | I15: =J11 -> 102.54 | J15: =+I15-H15 -> 102.54
A16: 8 | B16: Lát gạch đất nung 400x400mm KT: 2,7m x 7,1m | C16: m2 | D16: =2.7*7.1 -> 19.17 | E16: 208945 | F16: =E16*D16 -> 4005475.7 | H16: =D16 -> 19.17 | I16: =J15 -> 102.54 | J16: =+I16-H16 -> 83.37
A17: 9 | B17: Cổng sắt KT rộng 1m cao 2,6m x 2 cánh | C17: m2 | D17: =1*2.6*2 -> 5.2 | E17: 1307970 | F17: =E17*D17 -> 6801444 | H17: =D17 -> 5.2 | I17: =J16 -> 83.37 | J17: =+I17-H17 -> 78.17
A18: 10 | B18: Nhà chăn nuôi xây gạch xỉ, kết cấu tre, lợp mái Fibro xi măng KT 2m x 1m cao 1,5m | C18: m2 | D18: =2*1*1.5 -> 3 | E18: 1711123 | F18: =E18*D18 -> 5133369 | H18: =D18 -> 3 | I18: =J17 -> 78.17 | J18: =+I18-H18 -> 75.17
A19: II | B19: Cây trồng | F19: =SUM(F20:F23) -> 6100000 | I19: =J18 -> 75.17 | J19: =+I19-H19 -> 75.17
A20: 1 | B20: Cây vải ĐK gốc từ 30cm trở lên | C20: cây | D20: 1 | E20: 4500000 | F20: =E20*D20 -> 4500000 | H20: 28.6 | I20: =J19 -> 75.17 | J20: =+I20-H20 -> 46.57
A21: 2 | B21: Cây xoài 30cm ≤ ĐK gốc < 60cm | C21: cây | D21: 1 | E21: 1600000 | F21: =E21*D21 -> 1600000 | H21: =10000/350 -> 28.571429 | I21: =J20 -> 46.57 | J21: =+I21-H21 -> 17.998571
A22: 3 | B22: Cây khế 30cm ≤ ĐK gốc < 60cm | C22: cây | D22: 1 | E22: 0 | F22: 0 | G22: Tự di chuyển do vượt mật độ | H22: =10000/330 -> 30.30303 | I22: =J21 -> 17.998571 | J22: =+I22-H22 -> -12.304459
A23: 4 | B23: Cây lộc vừng 25cm ≤ ĐK gốc < 40cm | C23: cây | D23: 1 | E23: 0 | F23: 0 | G23: Tự di chuyển do vượt mật độ | H23: =10000/400 -> 25 | I23: =J22 -> -12.304459 | J23: =+I23-H23 -> -37.304459
A24: Tổng cộng | F24: =F8+F19 -> 71893426
